BEGIN:VCALENDAR
VERSION:2.0
PRODID:-//Plone.org//NONSGML plone.app.event//EN
X-WR-TIMEZONE:Europe/Oslo
BEGIN:VEVENT
SUMMARY:Informasjonsmøte
DTSTART;TZID=Europe/Oslo;VALUE=DATE-TIME:20250211T180000
DTEND;TZID=Europe/Oslo;VALUE=DATE-TIME:20250211T190000
DTSTAMP;VALUE=DATE-TIME:20260419T154538Z
UID:411346c83c544a4990868dd778626d29@127.0.0.1:8099
CONTACT:info@bergenokologiskelandsby.no
CREATED;VALUE=DATE-TIME:20231113T095645Z
DESCRIPTION:Kom innom for å høre mer om aktiviteten på Håhaugen.  Ta g
 jerne med egne forslag og tanker.
LAST-MODIFIED;VALUE=DATE-TIME:20250209T134519Z
LOCATION:Studentsenteret\, Parkv. 1
URL:http://www.bergenokologiskelandsby.no/aktiviteter/copy_of_stikk-innom
END:VEVENT
BEGIN:VTIMEZONE
TZID:Europe/Oslo
X-LIC-LOCATION:Europe/Oslo
BEGIN:STANDARD
DTSTART;VALUE=DATE-TIME:20241027T020000
TZNAME:CET
TZOFFSETFROM:+0200
TZOFFSETTO:+0100
END:STANDARD
END:VTIMEZONE
END:VCALENDAR
