BEGIN:VCALENDAR
VERSION:2.0
PRODID:-//Plone.org//NONSGML plone.app.event//EN
X-WR-TIMEZONE:Europe/Oslo
BEGIN:VEVENT
SUMMARY:Idédugnad / seminar
DTSTART;TZID=CET;VALUE=DATE-TIME:20121201T000000
DTEND;TZID=CET;VALUE=DATE-TIME:20121201T235500
DTSTAMP;VALUE=DATE-TIME:20260420T134843Z
UID:0c45ee9da1e882b6a955278b8005df03@127.0.0.1:8099
CREATED;VALUE=DATE-TIME:20121031T055356Z
LAST-MODIFIED;VALUE=DATE-TIME:20190621T115339Z
URL:http://www.bergenokologiskelandsby.no/alt-innhold/aktiviteter/gammelt/
 idedugnad-seminar
END:VEVENT
BEGIN:VTIMEZONE
TZID:CET
X-LIC-LOCATION:CET
BEGIN:STANDARD
DTSTART;VALUE=DATE-TIME:20121028T020000
TZNAME:CET
TZOFFSETFROM:+0200
TZOFFSETTO:+0100
END:STANDARD
END:VTIMEZONE
END:VCALENDAR
