BEGIN:VCALENDAR
VERSION:2.0
PRODID:-//Plone.org//NONSGML plone.app.event//EN
X-WR-TIMEZONE:Europe/Oslo
BEGIN:VEVENT
SUMMARY:Seminar - kontaktskapende kommunikasjon og sosiokrati
DTSTART;TZID=CET;VALUE=DATE-TIME:20110219T114500
DTEND;TZID=CET;VALUE=DATE-TIME:20110219T140000
DTSTAMP;VALUE=DATE-TIME:20260422T113505Z
UID:f5dc58dda479b395d8666134420c561a@127.0.0.1:8099
CREATED;VALUE=DATE-TIME:20110302T110328Z
LAST-MODIFIED;VALUE=DATE-TIME:20190621T115339Z
LOCATION:Det grønne loftet
URL:http://www.bergenokologiskelandsby.no/alt-innhold/aktiviteter/gammelt/
 seminar-kontaktskapende-kommunikasjon-og
END:VEVENT
BEGIN:VTIMEZONE
TZID:CET
X-LIC-LOCATION:CET
BEGIN:STANDARD
DTSTART;VALUE=DATE-TIME:20101031T020000
TZNAME:CET
TZOFFSETFROM:+0200
TZOFFSETTO:+0100
END:STANDARD
END:VTIMEZONE
END:VCALENDAR
