BEGIN:VCALENDAR
VERSION:2.0
PRODID:-//Plone.org//NONSGML plone.app.event//EN
X-WR-TIMEZONE:Europe/Oslo
BEGIN:VEVENT
SUMMARY:Skoghagekurs
DTSTART;TZID=CET;VALUE=DATE-TIME:20130913T000000
DTEND;TZID=CET;VALUE=DATE-TIME:20130915T230000
DTSTAMP;VALUE=DATE-TIME:20260423T114758Z
UID:0c0c89b4520c22248a43674171a6c8ea@127.0.0.1:8099
CREATED;VALUE=DATE-TIME:20130827T103411Z
DESCRIPTION:hos Alvastien
LAST-MODIFIED;VALUE=DATE-TIME:20190621T115339Z
LOCATION:Telste\, Kvam
URL:http://www.bergenokologiskelandsby.no/alt-innhold/aktiviteter/gammelt/
 skoghagekurs
END:VEVENT
BEGIN:VTIMEZONE
TZID:CET
X-LIC-LOCATION:CET
BEGIN:DAYLIGHT
DTSTART;VALUE=DATE-TIME:20130331T030000
TZNAME:CEST
TZOFFSETFROM:+0100
TZOFFSETTO:+0200
END:DAYLIGHT
END:VTIMEZONE
END:VCALENDAR
