BEGIN:VCALENDAR
VERSION:2.0
PRODID:-//Plone.org//NONSGML plone.app.event//EN
X-WR-TIMEZONE:Europe/Oslo
BEGIN:VEVENT
SUMMARY:Et introduksjonskurs til permakultur
DTSTART;TZID=CET;VALUE=DATE-TIME:20110910T100000
DTEND;TZID=CET;VALUE=DATE-TIME:20110911T170000
DTSTAMP;VALUE=DATE-TIME:20260421T195828Z
UID:15d3b3e320151e5b1b85b2595f1d1f63@127.0.0.1:8099
CREATED;VALUE=DATE-TIME:20110307T141010Z
LAST-MODIFIED;VALUE=DATE-TIME:20190621T115337Z
LOCATION:Midtgard\, Øvre Manger
URL:http://www.bergenokologiskelandsby.no/alt-innhold/aktiviteter/kurs-og-
 foredrag/copy2_of_permakulltur-kurs-del-1
END:VEVENT
BEGIN:VTIMEZONE
TZID:CET
X-LIC-LOCATION:CET
BEGIN:DAYLIGHT
DTSTART;VALUE=DATE-TIME:20110327T030000
TZNAME:CEST
TZOFFSETFROM:+0100
TZOFFSETTO:+0200
END:DAYLIGHT
END:VTIMEZONE
END:VCALENDAR
