BEGIN:VCALENDAR
VERSION:2.0
PRODID:-//Plone.org//NONSGML plone.app.event//EN
X-WR-TIMEZONE:Europe/Oslo
BEGIN:VEVENT
SUMMARY:Foredrag og film om økolandsbyer
DTSTART;TZID=CET;VALUE=DATE-TIME:20101019T210000
DTEND;TZID=CET;VALUE=DATE-TIME:20101019T230000
DTSTAMP;VALUE=DATE-TIME:20260423T133714Z
UID:0fa1dbb46c6d7c5c97d71c3f5e282db7@127.0.0.1:8099
CONTACT:92018283
CREATED;VALUE=DATE-TIME:20100831T095627Z
LAST-MODIFIED;VALUE=DATE-TIME:20190621T115338Z
LOCATION:grønne loftet
URL:http://www.bergenokologiskelandsby.no/alt-innhold/aktiviteter/tidliger
 e/copy_of_apent-mote
END:VEVENT
BEGIN:VTIMEZONE
TZID:CET
X-LIC-LOCATION:CET
BEGIN:DAYLIGHT
DTSTART;VALUE=DATE-TIME:20100328T030000
TZNAME:CEST
TZOFFSETFROM:+0100
TZOFFSETTO:+0200
END:DAYLIGHT
END:VTIMEZONE
END:VCALENDAR
