BEGIN:VCALENDAR
VERSION:2.0
PRODID:-//Plone.org//NONSGML plone.app.event//EN
X-WR-TIMEZONE:Europe/Oslo
BEGIN:VEVENT
SUMMARY:Informasjonsmøte
DTSTART;TZID=CET;VALUE=DATE-TIME:20090312T200000
DTEND;TZID=CET;VALUE=DATE-TIME:20090312T220000
DTSTAMP;VALUE=DATE-TIME:20260419T221312Z
UID:a86a9ec05d7f59ae47ab156e191d9bae@127.0.0.1:8099
CREATED;VALUE=DATE-TIME:20090225T095012Z
DESCRIPTION:åpent for alle
LAST-MODIFIED;VALUE=DATE-TIME:20190621T115337Z
LOCATION:Grønne loftet
URL:http://www.bergenokologiskelandsby.no/alt-innhold/aktiviteter/tidliger
 e/informasjonsmote
END:VEVENT
BEGIN:VTIMEZONE
TZID:CET
X-LIC-LOCATION:CET
BEGIN:STANDARD
DTSTART;VALUE=DATE-TIME:20081026T020000
TZNAME:CET
TZOFFSETFROM:+0200
TZOFFSETTO:+0100
END:STANDARD
END:VTIMEZONE
END:VCALENDAR
