BEGIN:VCALENDAR
VERSION:2.0
PRODID:-//Plone.org//NONSGML plone.app.event//EN
X-WR-TIMEZONE:Europe/Oslo
BEGIN:VEVENT
SUMMARY:Semesterstartmøte - for alle
DTSTART;TZID=CET;VALUE=DATE-TIME:20090818T210000
DTEND;TZID=CET;VALUE=DATE-TIME:20090818T230000
DTSTAMP;VALUE=DATE-TIME:20260422T021148Z
UID:a25153f78f321b6a4bf36b44c165a1cf@127.0.0.1:8099
CREATED;VALUE=DATE-TIME:20090814T094935Z
LAST-MODIFIED;VALUE=DATE-TIME:20190621T115337Z
LOCATION:Grønne loftet
URL:http://www.bergenokologiskelandsby.no/alt-innhold/aktiviteter/tidliger
 e/mote-5
END:VEVENT
BEGIN:VTIMEZONE
TZID:CET
X-LIC-LOCATION:CET
BEGIN:DAYLIGHT
DTSTART;VALUE=DATE-TIME:20090329T030000
TZNAME:CEST
TZOFFSETFROM:+0100
TZOFFSETTO:+0200
END:DAYLIGHT
END:VTIMEZONE
END:VCALENDAR
