BEGIN:VCALENDAR
VERSION:2.0
PRODID:-//Plone.org//NONSGML plone.app.event//EN
X-WR-TIMEZONE:Europe/Oslo
BEGIN:VEVENT
SUMMARY:Vårjevndøgn
DTSTART;TZID=CET;VALUE=DATE-TIME:20100320T010000
DTEND;TZID=CET;VALUE=DATE-TIME:20100320T012000
DTSTAMP;VALUE=DATE-TIME:20260422T113508Z
UID:287ff5bf2b3cdfdb7e92e1877c9c0b53@127.0.0.1:8099
CREATED;VALUE=DATE-TIME:20100312T102336Z
LAST-MODIFIED;VALUE=DATE-TIME:20190621T115338Z
LOCATION:Isdal
URL:http://www.bergenokologiskelandsby.no/alt-innhold/aktiviteter/tidliger
 e/varjevndogn-1
END:VEVENT
BEGIN:VTIMEZONE
TZID:CET
X-LIC-LOCATION:CET
BEGIN:STANDARD
DTSTART;VALUE=DATE-TIME:20091025T020000
TZNAME:CET
TZOFFSETFROM:+0200
TZOFFSETTO:+0100
END:STANDARD
END:VTIMEZONE
END:VCALENDAR
