BEGIN:VCALENDAR
VERSION:2.0
PRODID:-//Plone.org//NONSGML plone.app.event//EN
X-WR-TIMEZONE:Europe/Oslo
BEGIN:VEVENT
SUMMARY:Vintersolverv
DTSTART;TZID=CET;VALUE=DATE-TIME:20091221T190000
DTEND;TZID=CET;VALUE=DATE-TIME:20091221T210000
DTSTAMP;VALUE=DATE-TIME:20260420T045736Z
UID:c2e311a4792069950abdb68cae675561@127.0.0.1:8099
CREATED;VALUE=DATE-TIME:20090819T072140Z
DESCRIPTION:Fest
LAST-MODIFIED;VALUE=DATE-TIME:20190621T115338Z
LOCATION:Christinegård
URL:http://www.bergenokologiskelandsby.no/alt-innhold/aktiviteter/tidliger
 e/vintersolverv
END:VEVENT
BEGIN:VTIMEZONE
TZID:CET
X-LIC-LOCATION:CET
BEGIN:STANDARD
DTSTART;VALUE=DATE-TIME:20091025T020000
TZNAME:CET
TZOFFSETFROM:+0200
TZOFFSETTO:+0100
END:STANDARD
END:VTIMEZONE
END:VCALENDAR
