BEGIN:VCALENDAR
VERSION:2.0
PRODID:-//Plone.org//NONSGML plone.app.event//EN
X-WR-TIMEZONE:Europe/Oslo
BEGIN:VEVENT
SUMMARY:BØL på LAND
DTSTART;TZID=CET;VALUE=DATE-TIME:20160409T140000
DTEND;TZID=CET;VALUE=DATE-TIME:20160409T150000
DTSTAMP;VALUE=DATE-TIME:20260424T061931Z
UID:6ab4182af211780132b13f3e6a7d0229@127.0.0.1:8099
CREATED;VALUE=DATE-TIME:20160330T104415Z
DESCRIPTION:Presentasjon av BØL under LAND-konferansen
LAST-MODIFIED;VALUE=DATE-TIME:20190621T115330Z
LOCATION:Montana Vandrerhjem
URL:http://www.bergenokologiskelandsby.no/alt-innhold/bruvik/hva-skjer/bol
 -pa-land
END:VEVENT
BEGIN:VTIMEZONE
TZID:CET
X-LIC-LOCATION:CET
BEGIN:DAYLIGHT
DTSTART;VALUE=DATE-TIME:20160327T030000
TZNAME:CEST
TZOFFSETFROM:+0100
TZOFFSETTO:+0200
END:DAYLIGHT
END:VTIMEZONE
END:VCALENDAR
