BEGIN:VCALENDAR
VERSION:2.0
PRODID:-//Plone.org//NONSGML plone.app.event//EN
X-WR-TIMEZONE:Europe/Oslo
BEGIN:VEVENT
SUMMARY:Omvisning og dugnad
DTSTART;TZID=CET;VALUE=DATE-TIME:20170902T100000
DTEND;TZID=CET;VALUE=DATE-TIME:20170902T170000
DTSTAMP;VALUE=DATE-TIME:20260424T160218Z
UID:04b3635fad360ddea3f283779a385d19@127.0.0.1:8099
CREATED;VALUE=DATE-TIME:20170327T104111Z
LAST-MODIFIED;VALUE=DATE-TIME:20190621T115330Z
URL:http://www.bergenokologiskelandsby.no/alt-innhold/bruvik/hva-skjer/dug
 nad-4
END:VEVENT
BEGIN:VTIMEZONE
TZID:CET
X-LIC-LOCATION:CET
BEGIN:DAYLIGHT
DTSTART;VALUE=DATE-TIME:20170326T030000
TZNAME:CEST
TZOFFSETFROM:+0100
TZOFFSETTO:+0200
END:DAYLIGHT
END:VTIMEZONE
END:VCALENDAR
