BEGIN:VCALENDAR
VERSION:2.0
PRODID:-//Plone.org//NONSGML plone.app.event//EN
X-WR-TIMEZONE:Europe/Oslo
BEGIN:VEVENT
SUMMARY:Førjulstreff
DTSTART;TZID=CET;VALUE=DATE-TIME:20171202T110000
DTEND;TZID=CET;VALUE=DATE-TIME:20171202T160000
DTSTAMP;VALUE=DATE-TIME:20260419T181406Z
UID:981a7579ce0ef46209b792da6c651596@127.0.0.1:8099
CREATED;VALUE=DATE-TIME:20171026T214914Z
LAST-MODIFIED;VALUE=DATE-TIME:20190621T115332Z
URL:http://www.bergenokologiskelandsby.no/alt-innhold/bruvik/hva-skjer/for
 julstreff
END:VEVENT
BEGIN:VTIMEZONE
TZID:CET
X-LIC-LOCATION:CET
BEGIN:STANDARD
DTSTART;VALUE=DATE-TIME:20171029T020000
TZNAME:CET
TZOFFSETFROM:+0200
TZOFFSETTO:+0100
END:STANDARD
END:VTIMEZONE
END:VCALENDAR
