BEGIN:VCALENDAR
VERSION:2.0
PRODID:-//Plone.org//NONSGML plone.app.event//EN
X-WR-TIMEZONE:Europe/Oslo
BEGIN:VEVENT
SUMMARY:Informasjon om landsbyprosjektet
DTSTART;TZID=CET;VALUE=DATE-TIME:20171107T183000
DTEND;TZID=CET;VALUE=DATE-TIME:20171107T193000
DTSTAMP;VALUE=DATE-TIME:20260422T095012Z
UID:020763461a57c1389da87dec0d9c3719@127.0.0.1:8099
CREATED;VALUE=DATE-TIME:20171106T143545Z
LAST-MODIFIED;VALUE=DATE-TIME:20190621T115332Z
LOCATION:Kaigt 4
URL:http://www.bergenokologiskelandsby.no/alt-innhold/bruvik/hva-skjer/inf
 ormasjon-om-landsbyprosjektet
END:VEVENT
BEGIN:VTIMEZONE
TZID:CET
X-LIC-LOCATION:CET
BEGIN:STANDARD
DTSTART;VALUE=DATE-TIME:20171029T020000
TZNAME:CET
TZOFFSETFROM:+0200
TZOFFSETTO:+0100
END:STANDARD
END:VTIMEZONE
END:VCALENDAR
