BEGIN:VCALENDAR
VERSION:2.0
PRODID:-//Plone.org//NONSGML plone.app.event//EN
X-WR-TIMEZONE:Europe/Oslo
BEGIN:VEVENT
SUMMARY:Kom og se økolandsbyen på Bruvik
DTSTART;TZID=CET;VALUE=DATE-TIME:20170701T110000
DTEND;TZID=CET;VALUE=DATE-TIME:20170701T140000
DTSTAMP;VALUE=DATE-TIME:20260424T061931Z
UID:53814b3e6803f57a7df286fb461795c5@127.0.0.1:8099
CREATED;VALUE=DATE-TIME:20170627T171517Z
LAST-MODIFIED;VALUE=DATE-TIME:20190621T115332Z
URL:http://www.bergenokologiskelandsby.no/alt-innhold/bruvik/hva-skjer/kom
 -og-se-okolandsbyen-pa-bruvik
END:VEVENT
BEGIN:VTIMEZONE
TZID:CET
X-LIC-LOCATION:CET
BEGIN:DAYLIGHT
DTSTART;VALUE=DATE-TIME:20170326T030000
TZNAME:CEST
TZOFFSETFROM:+0100
TZOFFSETTO:+0200
END:DAYLIGHT
END:VTIMEZONE
END:VCALENDAR
