BEGIN:VCALENDAR
VERSION:2.0
PRODID:-//Plone.org//NONSGML plone.app.event//EN
X-WR-TIMEZONE:Europe/Oslo
BEGIN:VEVENT
SUMMARY:Dugnad
DTSTART;TZID=CET;VALUE=DATE-TIME:20170128T100000
DTEND;TZID=CET;VALUE=DATE-TIME:20170128T140000
DTSTAMP;VALUE=DATE-TIME:20260424T010327Z
UID:710a17c8d8a3d55382aa66795d1e12e3@127.0.0.1:8099
CREATED;VALUE=DATE-TIME:20170118T150447Z
LAST-MODIFIED;VALUE=DATE-TIME:20190621T115332Z
LOCATION:Bruvik
URL:http://www.bergenokologiskelandsby.no/alt-innhold/bruvik/hva-skjer/tit
 ligere-aktivitet/copy3_of_dugnad
END:VEVENT
BEGIN:VTIMEZONE
TZID:CET
X-LIC-LOCATION:CET
BEGIN:STANDARD
DTSTART;VALUE=DATE-TIME:20161030T020000
TZNAME:CET
TZOFFSETFROM:+0200
TZOFFSETTO:+0100
END:STANDARD
END:VTIMEZONE
END:VCALENDAR
