BEGIN:VCALENDAR
VERSION:2.0
PRODID:-//Plone.org//NONSGML plone.app.event//EN
X-WR-TIMEZONE:Europe/Oslo
BEGIN:VEVENT
SUMMARY:Fellesmøte
DTSTART;TZID=CET;VALUE=DATE-TIME:20150908T180000
DTEND;TZID=CET;VALUE=DATE-TIME:20150908T200000
DTSTAMP;VALUE=DATE-TIME:20260422T113504Z
UID:a263e4e1bc234c259608fa8f88305940@127.0.0.1:8099
CREATED;VALUE=DATE-TIME:20150813T134614Z
LAST-MODIFIED;VALUE=DATE-TIME:20190621T115331Z
LOCATION:Bergen Offentlige Bibliotek
URL:http://www.bergenokologiskelandsby.no/alt-innhold/bruvik/hva-skjer/tit
 ligere-aktivitet/copy_of_fellesmote
END:VEVENT
BEGIN:VTIMEZONE
TZID:CET
X-LIC-LOCATION:CET
BEGIN:DAYLIGHT
DTSTART;VALUE=DATE-TIME:20150329T030000
TZNAME:CEST
TZOFFSETFROM:+0100
TZOFFSETTO:+0200
END:DAYLIGHT
END:VTIMEZONE
END:VCALENDAR
