BEGIN:VCALENDAR
VERSION:2.0
PRODID:-//Plone.org//NONSGML plone.app.event//EN
X-WR-TIMEZONE:Europe/Oslo
BEGIN:VEVENT
SUMMARY:Medlemsmøte
DTSTART;TZID=CET;VALUE=DATE-TIME:20150901T180000
DTEND;TZID=CET;VALUE=DATE-TIME:20150901T200000
DTSTAMP;VALUE=DATE-TIME:20260424T005444Z
UID:7506494b01923ddd621272dcbc05af94@127.0.0.1:8099
CREATED;VALUE=DATE-TIME:20150813T134408Z
LAST-MODIFIED;VALUE=DATE-TIME:20190621T115331Z
LOCATION:Villav 1a
URL:http://www.bergenokologiskelandsby.no/alt-innhold/bruvik/hva-skjer/tit
 ligere-aktivitet/copy_of_medlemsmote
END:VEVENT
BEGIN:VTIMEZONE
TZID:CET
X-LIC-LOCATION:CET
BEGIN:DAYLIGHT
DTSTART;VALUE=DATE-TIME:20150329T030000
TZNAME:CEST
TZOFFSETFROM:+0100
TZOFFSETTO:+0200
END:DAYLIGHT
END:VTIMEZONE
END:VCALENDAR
