BEGIN:VCALENDAR
VERSION:2.0
PRODID:-//Plone.org//NONSGML plone.app.event//EN
X-WR-TIMEZONE:Europe/Oslo
BEGIN:VEVENT
SUMMARY:Dugnad
DTSTART;TZID=CET;VALUE=DATE-TIME:20160604T100000
DTEND;TZID=CET;VALUE=DATE-TIME:20160604T140000
DTSTAMP;VALUE=DATE-TIME:20260424T005444Z
UID:5948da2932bb082e8aa1ea53f614acce@127.0.0.1:8099
CREATED;VALUE=DATE-TIME:20160428T132313Z
LAST-MODIFIED;VALUE=DATE-TIME:20190621T115332Z
LOCATION:Bruvik\, Osterøy
URL:http://www.bergenokologiskelandsby.no/alt-innhold/bruvik/hva-skjer/tit
 ligere-aktivitet/dugnad-1
END:VEVENT
BEGIN:VTIMEZONE
TZID:CET
X-LIC-LOCATION:CET
BEGIN:DAYLIGHT
DTSTART;VALUE=DATE-TIME:20160327T030000
TZNAME:CEST
TZOFFSETFROM:+0100
TZOFFSETTO:+0200
END:DAYLIGHT
END:VTIMEZONE
END:VCALENDAR
