BEGIN:VCALENDAR
VERSION:2.0
PRODID:-//Plone.org//NONSGML plone.app.event//EN
X-WR-TIMEZONE:Europe/Oslo
BEGIN:VEVENT
SUMMARY:Bred økologi
DTSTART;TZID=CET;VALUE=DATE-TIME:20080117T200000
DTEND;TZID=CET;VALUE=DATE-TIME:20080117T223000
DTSTAMP;VALUE=DATE-TIME:20260422T021134Z
UID:32655473f40e163e6f9504a3a87206d4@127.0.0.1:8099
CREATED;VALUE=DATE-TIME:20080114T134108Z
DESCRIPTION:Del 2
LAST-MODIFIED;VALUE=DATE-TIME:20190621T115923Z
URL:http://www.bergenokologiskelandsby.no/alt-innhold/gamle-aktiviteter-og
 -hendelser/bred-okologi-1
END:VEVENT
BEGIN:VTIMEZONE
TZID:CET
X-LIC-LOCATION:CET
BEGIN:STANDARD
DTSTART;VALUE=DATE-TIME:20071028T020000
TZNAME:CET
TZOFFSETFROM:+0200
TZOFFSETTO:+0100
END:STANDARD
END:VTIMEZONE
END:VCALENDAR
