BEGIN:VCALENDAR
VERSION:2.0
PRODID:-//Plone.org//NONSGML plone.app.event//EN
X-WR-TIMEZONE:Europe/Oslo
BEGIN:VEVENT
SUMMARY:Møte 24.6.08
DTSTART;TZID=CET;VALUE=DATE-TIME:20080624T210000
DTEND;TZID=CET;VALUE=DATE-TIME:20080624T230000
DTSTAMP;VALUE=DATE-TIME:20260424T011106Z
UID:40d293f0ed687db4bd8467aecdb7b119@127.0.0.1:8099
CREATED;VALUE=DATE-TIME:20080527T074524Z
LAST-MODIFIED;VALUE=DATE-TIME:20190621T115923Z
LOCATION:Grønne loftet
URL:http://www.bergenokologiskelandsby.no/alt-innhold/gamle-aktiviteter-og
 -hendelser/mote-4
END:VEVENT
BEGIN:VTIMEZONE
TZID:CET
X-LIC-LOCATION:CET
BEGIN:DAYLIGHT
DTSTART;VALUE=DATE-TIME:20080330T030000
TZNAME:CEST
TZOFFSETFROM:+0100
TZOFFSETTO:+0200
END:DAYLIGHT
END:VTIMEZONE
END:VCALENDAR
