BEGIN:VCALENDAR
VERSION:2.0
PRODID:-//Plone.org//NONSGML plone.app.event//EN
X-WR-TIMEZONE:Europe/Oslo
BEGIN:VEVENT
SUMMARY:Økolandsby på Bruvik - informasjonsmøte
DTSTART;TZID=CET;VALUE=DATE-TIME:20130611T200000
DTEND;TZID=CET;VALUE=DATE-TIME:20130611T210000
DTSTAMP;VALUE=DATE-TIME:20260424T043230Z
UID:04fc52b3e5b107102fc7f2e5bbc0efce@127.0.0.1:8099
CREATED;VALUE=DATE-TIME:20130606T112316Z
LAST-MODIFIED;VALUE=DATE-TIME:20190621T115341Z
LOCATION:Den grønne kafé i Marken
URL:http://www.bergenokologiskelandsby.no/alt-innhold/prosjekter/okolandsb
 yen/hva-skjer/okolandsby-pa-bruvik-informasjonsmote
END:VEVENT
BEGIN:VTIMEZONE
TZID:CET
X-LIC-LOCATION:CET
BEGIN:DAYLIGHT
DTSTART;VALUE=DATE-TIME:20130331T030000
TZNAME:CEST
TZOFFSETFROM:+0100
TZOFFSETTO:+0200
END:DAYLIGHT
END:VTIMEZONE
END:VCALENDAR
