BEGIN:VCALENDAR
VERSION:2.0
PRODID:-//Plone.org//NONSGML plone.app.event//EN
X-WR-TIMEZONE:Europe/Oslo
BEGIN:VEVENT
SUMMARY:Arbeid i hagen
DTSTART;TZID=CET;VALUE=DATE-TIME:20100527T180000
DTEND;TZID=CET;VALUE=DATE-TIME:20100527T210000
DTSTAMP;VALUE=DATE-TIME:20260422T095029Z
UID:7f4fd7092bc99002a74006f6655fc478@127.0.0.1:8099
CREATED;VALUE=DATE-TIME:20100507T074229Z
LAST-MODIFIED;VALUE=DATE-TIME:20190621T115342Z
URL:http://www.bergenokologiskelandsby.no/alt-innhold/prosjekter/okologisk
 -jordbruk/hagegruppe-kristinegard/hva-skjer/copy_of_arbeid-i-hagen
END:VEVENT
BEGIN:VTIMEZONE
TZID:CET
X-LIC-LOCATION:CET
BEGIN:DAYLIGHT
DTSTART;VALUE=DATE-TIME:20100328T030000
TZNAME:CEST
TZOFFSETFROM:+0100
TZOFFSETTO:+0200
END:DAYLIGHT
END:VTIMEZONE
END:VCALENDAR
