BEGIN:VCALENDAR
VERSION:2.0
PRODID:-//Plone.org//NONSGML plone.app.event//EN
X-WR-TIMEZONE:Europe/Oslo
BEGIN:VEVENT
SUMMARY:Fellesmøte 10. mai 2014
DTSTART;TZID=CET;VALUE=DATE-TIME:20140510T170000
DTEND;TZID=CET;VALUE=DATE-TIME:20140510T210000
DTSTAMP;VALUE=DATE-TIME:20260424T062204Z
UID:b3617e3f68eec31dd3a78436e2451029@127.0.0.1:8099
CREATED;VALUE=DATE-TIME:20140508T122852Z
DESCRIPTION:velkommen til fællesmøde i BØL lørdag 10. maj 2014 kl 17 -
  for interesserede\, venner og medlemmer
LAST-MODIFIED;VALUE=DATE-TIME:20201009T180039Z
LOCATION:Villav. 1a\, underetasjen
URL:http://www.bergenokologiskelandsby.no/alt-innhold/vedtak/tidligere-ved
 tak/vedtak-2014/fellesmote-5
END:VEVENT
BEGIN:VTIMEZONE
TZID:CET
X-LIC-LOCATION:CET
BEGIN:DAYLIGHT
DTSTART;VALUE=DATE-TIME:20140330T030000
TZNAME:CEST
TZOFFSETFROM:+0100
TZOFFSETTO:+0200
END:DAYLIGHT
END:VTIMEZONE
END:VCALENDAR
