BEGIN:VCALENDAR
VERSION:2.0
PRODID:-//Plone.org//NONSGML plone.app.event//EN
X-WR-TIMEZONE:Europe/Oslo
BEGIN:VEVENT
SUMMARY:Møte 
DTSTART;TZID=CET;VALUE=DATE-TIME:20120904T190000
DTEND;TZID=CET;VALUE=DATE-TIME:20120904T210000
DTSTAMP;VALUE=DATE-TIME:20260419T140733Z
UID:70d9657970bf3136bef71e56e950b1cc@127.0.0.1:8099
CREATED;VALUE=DATE-TIME:20120901T221227Z
DESCRIPTION:Åbent BØL-møte i Den Grønne Kafé i Marken
LAST-MODIFIED;VALUE=DATE-TIME:20190621T115401Z
LOCATION:Den Grønne Kafé i Marken
URL:http://www.bergenokologiskelandsby.no/alt-innhold/vedtak/tidligere-ved
 tak/vedtak-host-2012/copy_of_mote-7
END:VEVENT
BEGIN:VTIMEZONE
TZID:CET
X-LIC-LOCATION:CET
BEGIN:DAYLIGHT
DTSTART;VALUE=DATE-TIME:20120325T030000
TZNAME:CEST
TZOFFSETFROM:+0100
TZOFFSETTO:+0200
END:DAYLIGHT
END:VTIMEZONE
END:VCALENDAR
