BEGIN:VCALENDAR
VERSION:2.0
PRODID:-//Plone.org//NONSGML plone.app.event//EN
X-WR-TIMEZONE:Europe/Oslo
BEGIN:VEVENT
SUMMARY:Urtekurs 9. juni 2012
DTSTART;TZID=CET;VALUE=DATE-TIME:20120609T120000
DTEND;TZID=CET;VALUE=DATE-TIME:20120609T160000
DTSTAMP;VALUE=DATE-TIME:20260420T171707Z
UID:2fc7310b5dbd4c33528da77899e64717@127.0.0.1:8099
CREATED;VALUE=DATE-TIME:20120309T150506Z
DESCRIPTION:Indsamling af vilde urter 
LAST-MODIFIED;VALUE=DATE-TIME:20190621T115346Z
URL:http://www.bergenokologiskelandsby.no/grupper/jordbruk/historikk/urtek
 urs-1
END:VEVENT
BEGIN:VTIMEZONE
TZID:CET
X-LIC-LOCATION:CET
BEGIN:DAYLIGHT
DTSTART;VALUE=DATE-TIME:20120325T030000
TZNAME:CEST
TZOFFSETFROM:+0100
TZOFFSETTO:+0200
END:DAYLIGHT
END:VTIMEZONE
END:VCALENDAR
