BEGIN:VCALENDAR
VERSION:2.0
PRODID:-//Plone.org//NONSGML plone.app.event//EN
X-WR-TIMEZONE:Europe/Oslo
BEGIN:VEVENT
SUMMARY:Sosial fredag 6. december 2019
DTSTART;TZID=Europe/Berlin;VALUE=DATE-TIME:20191101T170000
DTEND;TZID=Europe/Berlin;VALUE=DATE-TIME:20191101T180000
DTSTAMP;VALUE=DATE-TIME:20260424T003740Z
UID:95acb01443344bc38ecfb24237bf28ba@127.0.0.1:8099
ATTENDEE;CN="Randi - med flere";ROLE=REQ-PARTICIPANT:Randi - med flere
CONTACT:Randi eller Kristian\, Kristian: 98 30 64 47\, randi@bergenokologi
 skelandsby.no
CREATED;VALUE=DATE-TIME:20190612T114654Z
DESCRIPTION:Velkommen til social fredag på Studentsenteret i Bergen freda
 g 6. december kl. 17-18 - i kantinen - til socialt samvær og evt. et mål
 tid eller en drik. Medbring gerne en ven eller to. Alle er velkomne. \n\nD
 ugnad på tomten ved Bruvik dagen efter: lørdag 7. december fra kl. 11.
LAST-MODIFIED;VALUE=DATE-TIME:20200120T142216Z
LOCATION:Studentsenteret - i kantinen - øverst for enden af den store tra
 ppe
URL:https://www.bergenokologiskelandsby.no/aktiviteter/sosial-fredag
END:VEVENT
BEGIN:VTIMEZONE
TZID:Europe/Berlin
X-LIC-LOCATION:Europe/Berlin
BEGIN:STANDARD
DTSTART;VALUE=DATE-TIME:20191027T020000
TZNAME:CET
TZOFFSETFROM:+0200
TZOFFSETTO:+0100
END:STANDARD
END:VTIMEZONE
END:VCALENDAR
