BEGIN:VCALENDAR
VERSION:2.0
PRODID:-//Plone.org//NONSGML plone.app.event//EN
X-WR-TIMEZONE:Europe/Oslo
BEGIN:VEVENT
SUMMARY:Til Bruvik
DTSTART;TZID=Europe/Oslo;VALUE=DATE-TIME:20200404T110000
DTEND;TZID=Europe/Oslo;VALUE=DATE-TIME:20200405T140000
DTSTAMP;VALUE=DATE-TIME:20260424T003741Z
UID:c579b1af017f48559018451f62df8353@127.0.0.1:8099
CREATED;VALUE=DATE-TIME:20200331T091414Z
LAST-MODIFIED;VALUE=DATE-TIME:20200331T091453Z
URL:https://www.bergenokologiskelandsby.no/aktiviteter/til-bruvik-2
END:VEVENT
BEGIN:VTIMEZONE
TZID:Europe/Oslo
X-LIC-LOCATION:Europe/Oslo
BEGIN:DAYLIGHT
DTSTART;VALUE=DATE-TIME:20200329T030000
TZNAME:CEST
TZOFFSETFROM:+0100
TZOFFSETTO:+0200
END:DAYLIGHT
END:VTIMEZONE
END:VCALENDAR
