BEGIN:VCALENDAR
VERSION:2.0
PRODID:-//Plone.org//NONSGML plone.app.event//EN
X-WR-TIMEZONE:Europe/Oslo
BEGIN:VEVENT
SUMMARY:Vi møtes i Bergen
DTSTART;TZID=Europe/Oslo;VALUE=DATE-TIME:20200403T170000
DTEND;TZID=Europe/Oslo;VALUE=DATE-TIME:20200403T170000
DTSTAMP;VALUE=DATE-TIME:20260421T105144Z
UID:423d6f40926f418faf534fd3c8278a85@127.0.0.1:8099
CREATED;VALUE=DATE-TIME:20200331T090444Z
LAST-MODIFIED;VALUE=DATE-TIME:20200331T091033Z
LOCATION:Studentsenteret \, ute
URL:https://www.bergenokologiskelandsby.no/aktiviteter/vi-motes-i-bergen
END:VEVENT
BEGIN:VTIMEZONE
TZID:Europe/Oslo
X-LIC-LOCATION:Europe/Oslo
BEGIN:DAYLIGHT
DTSTART;VALUE=DATE-TIME:20200329T030000
TZNAME:CEST
TZOFFSETFROM:+0100
TZOFFSETTO:+0200
END:DAYLIGHT
END:VTIMEZONE
END:VCALENDAR
