BEGIN:VCALENDAR
VERSION:2.0
PRODID:-//Plone.org//NONSGML plone.app.event//EN
X-WR-TIMEZONE:Europe/Oslo
BEGIN:VEVENT
SUMMARY:Urteindsamling og urtesåning lørdag 16. juni 2011 
DTSTART;TZID=CET;VALUE=DATE-TIME:20120616T100000
DTEND;TZID=CET;VALUE=DATE-TIME:20120616T150000
DTSTAMP;VALUE=DATE-TIME:20260420T125145Z
UID:aeca6ec1f52ace49ce17ee7b9b484788@127.0.0.1:8099
CONTACT:Randi Benedikte Brodersen\, 55590810\, postmaster@bergenokologiske
 landsby.no
CREATED;VALUE=DATE-TIME:20120614T193652Z
DESCRIPTION:Urteindsamling langs Nonnestien kl. 10-11 ca og urtesåning p
 å Det grønne loftet\, Jacobsfjorden 3. etage\, Bryggen kl. 12-14.30
LAST-MODIFIED;VALUE=DATE-TIME:20190621T115339Z
LOCATION:Nonnestien og Det grønne loftet\, Bryggen
URL:https://www.bergenokologiskelandsby.no/alt-innhold/aktiviteter/gammelt
 /copy_of_urteindsamling-og-urtesaning-lordag-16.-juni-2011
END:VEVENT
BEGIN:VTIMEZONE
TZID:CET
X-LIC-LOCATION:CET
BEGIN:DAYLIGHT
DTSTART;VALUE=DATE-TIME:20120325T030000
TZNAME:CEST
TZOFFSETFROM:+0100
TZOFFSETTO:+0200
END:DAYLIGHT
END:VTIMEZONE
END:VCALENDAR
