BEGIN:VCALENDAR
VERSION:2.0
PRODID:-//Plone.org//NONSGML plone.app.event//EN
X-WR-TIMEZONE:Europe/Oslo
BEGIN:VEVENT
SUMMARY:Sommersolverv
DTSTART;TZID=CET;VALUE=DATE-TIME:20130621T173000
DTEND;TZID=CET;VALUE=DATE-TIME:20130621T235500
DTSTAMP;VALUE=DATE-TIME:20260421T082817Z
UID:c8f81698dae0279f1dfc1dc38beecd9c@127.0.0.1:8099
CREATED;VALUE=DATE-TIME:20130620T055315Z
LAST-MODIFIED;VALUE=DATE-TIME:20190621T115339Z
LOCATION:Den grønne kafé i Marken
URL:https://www.bergenokologiskelandsby.no/alt-innhold/aktiviteter/gammelt
 /kurvfest
END:VEVENT
BEGIN:VTIMEZONE
TZID:CET
X-LIC-LOCATION:CET
BEGIN:DAYLIGHT
DTSTART;VALUE=DATE-TIME:20130331T030000
TZNAME:CEST
TZOFFSETFROM:+0100
TZOFFSETTO:+0200
END:DAYLIGHT
END:VTIMEZONE
END:VCALENDAR
