BEGIN:VCALENDAR
VERSION:2.0
PRODID:-//Plone.org//NONSGML plone.app.event//EN
X-WR-TIMEZONE:Europe/Oslo
BEGIN:VEVENT
SUMMARY:Permakultur i Hordaland
DTSTART;TZID=CET;VALUE=DATE-TIME:20131022T190000
DTEND;TZID=CET;VALUE=DATE-TIME:20131022T210000
DTSTAMP;VALUE=DATE-TIME:20260421T055140Z
UID:d63a0434aee0231ff35f2de2d2f53e06@127.0.0.1:8099
CREATED;VALUE=DATE-TIME:20131019T110854Z
DESCRIPTION:Oppstart
LAST-MODIFIED;VALUE=DATE-TIME:20190621T115339Z
LOCATION:Den grønne kafé
URL:https://www.bergenokologiskelandsby.no/alt-innhold/aktiviteter/gammelt
 /permakultur-i-hordaland
END:VEVENT
BEGIN:VTIMEZONE
TZID:CET
X-LIC-LOCATION:CET
BEGIN:DAYLIGHT
DTSTART;VALUE=DATE-TIME:20130331T030000
TZNAME:CEST
TZOFFSETFROM:+0100
TZOFFSETTO:+0200
END:DAYLIGHT
END:VTIMEZONE
END:VCALENDAR
