BEGIN:VCALENDAR
VERSION:2.0
PRODID:-//Plone.org//NONSGML plone.app.event//EN
X-WR-TIMEZONE:Europe/Oslo
BEGIN:VEVENT
SUMMARY:Kurs i permakultur
DTSTART;TZID=CET;VALUE=DATE-TIME:20090320T010000
DTEND;TZID=CET;VALUE=DATE-TIME:20090322T230000
DTSTAMP;VALUE=DATE-TIME:20260425T044440Z
UID:24e38a2b04ee0e6678a0b8440c5504cc@127.0.0.1:8099
CREATED;VALUE=DATE-TIME:20090225T101238Z
DESCRIPTION:sertifikat-givende eller enkeltkurs
LAST-MODIFIED;VALUE=DATE-TIME:20190621T115336Z
LOCATION:Fossetunet\, Meland
URL:https://www.bergenokologiskelandsby.no/alt-innhold/aktiviteter/kurs-og
 -foredrag/tidligere-kurs-og-foredrag/kurs-i-permakultur
END:VEVENT
BEGIN:VTIMEZONE
TZID:CET
X-LIC-LOCATION:CET
BEGIN:STANDARD
DTSTART;VALUE=DATE-TIME:20081026T020000
TZNAME:CET
TZOFFSETFROM:+0200
TZOFFSETTO:+0100
END:STANDARD
END:VTIMEZONE
END:VCALENDAR
