BEGIN:VCALENDAR
VERSION:2.0
PRODID:-//Plone.org//NONSGML plone.app.event//EN
X-WR-TIMEZONE:Europe/Oslo
BEGIN:VEVENT
SUMMARY:Sjølbergarstemne
DTSTART;TZID=CET;VALUE=DATE-TIME:20080925T020000
DTEND;TZID=CET;VALUE=DATE-TIME:20080929T020000
DTSTAMP;VALUE=DATE-TIME:20260420T000304Z
UID:f3fc6a13d51e66cf67e09fa1decbc1f1@127.0.0.1:8099
CREATED;VALUE=DATE-TIME:20080910T112324Z
LAST-MODIFIED;VALUE=DATE-TIME:20190621T115337Z
LOCATION:Fyksesund
URL:https://www.bergenokologiskelandsby.no/alt-innhold/aktiviteter/kurs-og
 -foredrag/tidligere-kurs-og-foredrag/sjolbergarstemne
END:VEVENT
BEGIN:VTIMEZONE
TZID:CET
X-LIC-LOCATION:CET
BEGIN:DAYLIGHT
DTSTART;VALUE=DATE-TIME:20080330T030000
TZNAME:CEST
TZOFFSETFROM:+0100
TZOFFSETTO:+0200
END:DAYLIGHT
END:VTIMEZONE
END:VCALENDAR
