BEGIN:VCALENDAR
VERSION:2.0
PRODID:-//Plone.org//NONSGML plone.app.event//EN
X-WR-TIMEZONE:Europe/Oslo
BEGIN:VEVENT
SUMMARY:Allmøte m foredrag
DTSTART;TZID=CET;VALUE=DATE-TIME:20080925T210000
DTEND;TZID=CET;VALUE=DATE-TIME:20080925T230000
DTSTAMP;VALUE=DATE-TIME:20260420T071103Z
UID:f963270629c6dec76bd8fd5cd07601c5@127.0.0.1:8099
CREATED;VALUE=DATE-TIME:20080910T112615Z
LAST-MODIFIED;VALUE=DATE-TIME:20190621T115337Z
LOCATION:Det grønne loftet\, Jacobsfjorden\, Bryggen
URL:https://www.bergenokologiskelandsby.no/alt-innhold/aktiviteter/tidlige
 re/allmote
END:VEVENT
BEGIN:VTIMEZONE
TZID:CET
X-LIC-LOCATION:CET
BEGIN:DAYLIGHT
DTSTART;VALUE=DATE-TIME:20080330T030000
TZNAME:CEST
TZOFFSETFROM:+0100
TZOFFSETTO:+0200
END:DAYLIGHT
END:VTIMEZONE
END:VCALENDAR
