BEGIN:VCALENDAR
VERSION:2.0
PRODID:-//Plone.org//NONSGML plone.app.event//EN
X-WR-TIMEZONE:Europe/Oslo
BEGIN:VEVENT
SUMMARY:Årsmøte
DTSTART;TZID=CET;VALUE=DATE-TIME:20091010T160000
DTEND;TZID=CET;VALUE=DATE-TIME:20091010T180000
DTSTAMP;VALUE=DATE-TIME:20260421T054002Z
UID:fcec89f83e0388461b980638111faf0b@127.0.0.1:8099
CREATED;VALUE=DATE-TIME:20090819T073429Z
LAST-MODIFIED;VALUE=DATE-TIME:20190621T115338Z
LOCATION:Grønne loftet
URL:https://www.bergenokologiskelandsby.no/alt-innhold/aktiviteter/tidlige
 re/arsmote-familiehelg
END:VEVENT
BEGIN:VTIMEZONE
TZID:CET
X-LIC-LOCATION:CET
BEGIN:DAYLIGHT
DTSTART;VALUE=DATE-TIME:20090329T030000
TZNAME:CEST
TZOFFSETFROM:+0100
TZOFFSETTO:+0200
END:DAYLIGHT
END:VTIMEZONE
END:VCALENDAR
