BEGIN:VCALENDAR
VERSION:2.0
PRODID:-//Plone.org//NONSGML plone.app.event//EN
X-WR-TIMEZONE:Europe/Oslo
BEGIN:VEVENT
SUMMARY:Vintersolverv
DTSTART;TZID=CET;VALUE=DATE-TIME:20101221T180000
DTEND;TZID=CET;VALUE=DATE-TIME:20101221T220000
DTSTAMP;VALUE=DATE-TIME:20260421T123112Z
UID:e229cf7f3dd3b49414549a387af16f6b@127.0.0.1:8099
CREATED;VALUE=DATE-TIME:20100910T081538Z
DESCRIPTION:Vintersolvervsjulebord 2010.
LAST-MODIFIED;VALUE=DATE-TIME:20190621T115338Z
LOCATION:Livsverkstedet\, Wernersholmv 22\, Hop
URL:https://www.bergenokologiskelandsby.no/alt-innhold/aktiviteter/tidlige
 re/copy_of_vintersolverv
END:VEVENT
BEGIN:VTIMEZONE
TZID:CET
X-LIC-LOCATION:CET
BEGIN:STANDARD
DTSTART;VALUE=DATE-TIME:20101031T020000
TZNAME:CET
TZOFFSETFROM:+0200
TZOFFSETTO:+0100
END:STANDARD
END:VTIMEZONE
END:VCALENDAR
