BEGIN:VCALENDAR
VERSION:2.0
PRODID:-//Plone.org//NONSGML plone.app.event//EN
X-WR-TIMEZONE:Europe/Oslo
BEGIN:VEVENT
SUMMARY:Møte
DTSTART;TZID=CET;VALUE=DATE-TIME:20090528T210000
DTEND;TZID=CET;VALUE=DATE-TIME:20090528T230000
DTSTAMP;VALUE=DATE-TIME:20260421T095150Z
UID:37d1771a79a9050661cf03da0d802684@127.0.0.1:8099
CREATED;VALUE=DATE-TIME:20090508T072915Z
LAST-MODIFIED;VALUE=DATE-TIME:20190621T115337Z
LOCATION:Grønne loftet
URL:https://www.bergenokologiskelandsby.no/alt-innhold/aktiviteter/tidlige
 re/mote-2
END:VEVENT
BEGIN:VTIMEZONE
TZID:CET
X-LIC-LOCATION:CET
BEGIN:DAYLIGHT
DTSTART;VALUE=DATE-TIME:20090329T030000
TZNAME:CEST
TZOFFSETFROM:+0100
TZOFFSETTO:+0200
END:DAYLIGHT
END:VTIMEZONE
END:VCALENDAR
