BEGIN:VCALENDAR
VERSION:2.0
PRODID:-//Plone.org//NONSGML plone.app.event//EN
X-WR-TIMEZONE:Europe/Oslo
BEGIN:VEVENT
SUMMARY:Møte i gruppene
DTSTART;TZID=CET;VALUE=DATE-TIME:20131029T190000
DTEND;TZID=CET;VALUE=DATE-TIME:20131029T210000
DTSTAMP;VALUE=DATE-TIME:20260424T090015Z
UID:2101becbfdf87d94b0cf7a0ca88a2a09@127.0.0.1:8099
CREATED;VALUE=DATE-TIME:20130806T091531Z
DESCRIPTION: for Bruvik-prosjektet 29.10
LAST-MODIFIED;VALUE=DATE-TIME:20190621T115331Z
LOCATION:Den grønne kafé
URL:https://www.bergenokologiskelandsby.no/alt-innhold/bruvik/hva-skjer/ti
 tligere-aktivitet/copy2_of_mote-i-gruppene
END:VEVENT
BEGIN:VTIMEZONE
TZID:CET
X-LIC-LOCATION:CET
BEGIN:STANDARD
DTSTART;VALUE=DATE-TIME:20131027T020000
TZNAME:CET
TZOFFSETFROM:+0200
TZOFFSETTO:+0100
END:STANDARD
END:VTIMEZONE
END:VCALENDAR
