BEGIN:VCALENDAR
VERSION:2.0
PRODID:-//Plone.org//NONSGML plone.app.event//EN
X-WR-TIMEZONE:Europe/Oslo
BEGIN:VEVENT
SUMMARY:Dugnad - rydding av kratt
DTSTART;TZID=CET;VALUE=DATE-TIME:20160730T100000
DTEND;TZID=CET;VALUE=DATE-TIME:20160731T140000
DTSTAMP;VALUE=DATE-TIME:20260420T121625Z
UID:33ef66f145a9500f1c3470480ac66633@127.0.0.1:8099
CREATED;VALUE=DATE-TIME:20160726T224050Z
DESCRIPTION:- Se hvor de første husene kommer!
LAST-MODIFIED;VALUE=DATE-TIME:20190621T115332Z
LOCATION:Bruvik\, Osterøy
URL:https://www.bergenokologiskelandsby.no/alt-innhold/bruvik/hva-skjer/ti
 tligere-aktivitet/dugnad-rydding-av-kratt
END:VEVENT
BEGIN:VTIMEZONE
TZID:CET
X-LIC-LOCATION:CET
BEGIN:DAYLIGHT
DTSTART;VALUE=DATE-TIME:20160327T030000
TZNAME:CEST
TZOFFSETFROM:+0100
TZOFFSETTO:+0200
END:DAYLIGHT
END:VTIMEZONE
END:VCALENDAR
