BEGIN:VCALENDAR
VERSION:2.0
PRODID:-//Plone.org//NONSGML plone.app.event//EN
X-WR-TIMEZONE:Europe/Oslo
BEGIN:VEVENT
SUMMARY:Infomøte
DTSTART;TZID=CET;VALUE=DATE-TIME:20140916T180000
DTEND;TZID=CET;VALUE=DATE-TIME:20140916T193000
DTSTAMP;VALUE=DATE-TIME:20260420T091652Z
UID:73bb440b7b88e8d785d528c1b5bf1f79@127.0.0.1:8099
CREATED;VALUE=DATE-TIME:20140908T174003Z
LAST-MODIFIED;VALUE=DATE-TIME:20190621T115331Z
URL:https://www.bergenokologiskelandsby.no/alt-innhold/bruvik/hva-skjer/ti
 tligere-aktivitet/infomote
END:VEVENT
BEGIN:VTIMEZONE
TZID:CET
X-LIC-LOCATION:CET
BEGIN:DAYLIGHT
DTSTART;VALUE=DATE-TIME:20140330T030000
TZNAME:CEST
TZOFFSETFROM:+0100
TZOFFSETTO:+0200
END:DAYLIGHT
END:VTIMEZONE
END:VCALENDAR
