BEGIN:VCALENDAR
VERSION:2.0
PRODID:-//Plone.org//NONSGML plone.app.event//EN
X-WR-TIMEZONE:Europe/Oslo
BEGIN:VEVENT
SUMMARY:Vårtur til Bruvik lørdag 18. april 2015
DTSTART;TZID=CET;VALUE=DATE-TIME:20150418T110000
DTEND;TZID=CET;VALUE=DATE-TIME:20150418T150000
DTSTAMP;VALUE=DATE-TIME:20260424T020936Z
UID:940be4fd3df1770fb47d4c8f6c2411e7@127.0.0.1:8099
CREATED;VALUE=DATE-TIME:20150412T214053Z
DESCRIPTION:Bli med og se på det flotte området!
LAST-MODIFIED;VALUE=DATE-TIME:20190621T115331Z
LOCATION:Bruvik
URL:https://www.bergenokologiskelandsby.no/alt-innhold/bruvik/hva-skjer/ti
 tligere-aktivitet/vartur-2015
END:VEVENT
BEGIN:VTIMEZONE
TZID:CET
X-LIC-LOCATION:CET
BEGIN:DAYLIGHT
DTSTART;VALUE=DATE-TIME:20150329T030000
TZNAME:CEST
TZOFFSETFROM:+0100
TZOFFSETTO:+0200
END:DAYLIGHT
END:VTIMEZONE
END:VCALENDAR
