BEGIN:VCALENDAR
VERSION:2.0
PRODID:-//Plone.org//NONSGML plone.app.event//EN
X-WR-TIMEZONE:Europe/Oslo
BEGIN:VEVENT
SUMMARY:Møte
DTSTART;TZID=CET;VALUE=DATE-TIME:20081030T200000
DTEND;TZID=CET;VALUE=DATE-TIME:20081030T220000
DTSTAMP;VALUE=DATE-TIME:20260421T082817Z
UID:52ef5263307ed4eaa568579ee02957c9@127.0.0.1:8099
CREATED;VALUE=DATE-TIME:20081021T113740Z
LAST-MODIFIED;VALUE=DATE-TIME:20190621T115923Z
LOCATION:Grønne loftet
URL:https://www.bergenokologiskelandsby.no/alt-innhold/gamle-aktiviteter-o
 g-hendelser/mote-6
END:VEVENT
BEGIN:VTIMEZONE
TZID:CET
X-LIC-LOCATION:CET
BEGIN:STANDARD
DTSTART;VALUE=DATE-TIME:20081026T020000
TZNAME:CET
TZOFFSETFROM:+0200
TZOFFSETTO:+0100
END:STANDARD
END:VTIMEZONE
END:VCALENDAR
