BEGIN:VCALENDAR
VERSION:2.0
PRODID:-//Plone.org//NONSGML plone.app.event//EN
X-WR-TIMEZONE:Europe/Oslo
BEGIN:VEVENT
SUMMARY:Møte
DTSTART;TZID=CET;VALUE=DATE-TIME:20130910T190000
DTEND;TZID=CET;VALUE=DATE-TIME:20130910T210000
DTSTAMP;VALUE=DATE-TIME:20260424T035723Z
UID:784ef73ff1c7df847ac81ebc432e1dcc@127.0.0.1:8099
CREATED;VALUE=DATE-TIME:20130826T093706Z
DESCRIPTION:10.9.13
LAST-MODIFIED;VALUE=DATE-TIME:20190621T115400Z
LOCATION:Den grønne kafé i Marken
URL:https://www.bergenokologiskelandsby.no/alt-innhold/vedtak/tidligere-ve
 dtak/vedtak-host-2013/mote-3
END:VEVENT
BEGIN:VTIMEZONE
TZID:CET
X-LIC-LOCATION:CET
BEGIN:DAYLIGHT
DTSTART;VALUE=DATE-TIME:20130331T030000
TZNAME:CEST
TZOFFSETFROM:+0100
TZOFFSETTO:+0200
END:DAYLIGHT
END:VTIMEZONE
END:VCALENDAR
