BEGIN:VCALENDAR
VERSION:2.0
PRODID:-//Plone.org//NONSGML plone.app.event//EN
X-WR-TIMEZONE:Europe/Oslo
BEGIN:VEVENT
SUMMARY:Møte i gruppene
DTSTART;TZID=CET;VALUE=DATE-TIME:20130820T190000
DTEND;TZID=CET;VALUE=DATE-TIME:20130820T210000
DTSTAMP;VALUE=DATE-TIME:20260421T122348Z
UID:719ee6f7bcdc557787b5a8cdb8cddb49@127.0.0.1:8099
CREATED;VALUE=DATE-TIME:20130806T091531Z
DESCRIPTION: for Bruvik-prosjektet 20.8
LAST-MODIFIED;VALUE=DATE-TIME:20190621T115400Z
LOCATION:Den grønne kafé
URL:https://www.bergenokologiskelandsby.no/alt-innhold/vedtak/tidligere-ve
 dtak/vedtak-host-2013/mote-i-gruppene
END:VEVENT
BEGIN:VTIMEZONE
TZID:CET
X-LIC-LOCATION:CET
BEGIN:DAYLIGHT
DTSTART;VALUE=DATE-TIME:20130331T030000
TZNAME:CEST
TZOFFSETFROM:+0100
TZOFFSETTO:+0200
END:DAYLIGHT
END:VTIMEZONE
END:VCALENDAR
