BEGIN:VCALENDAR
VERSION:2.0
PRODID:-//Plone.org//NONSGML plone.app.event//EN
X-WR-TIMEZONE:Europe/Oslo
BEGIN:VEVENT
SUMMARY:Litteraturhuset i kveld!
DTSTART;TZID=CET;VALUE=DATE-TIME:20130206T180000
DTEND;TZID=CET;VALUE=DATE-TIME:20130206T200000
DTSTAMP;VALUE=DATE-TIME:20260421T042042Z
UID:00dcfa8afcd24a2d638ba5bd71c09687@127.0.0.1:8099
CREATED;VALUE=DATE-TIME:20130206T164230Z
DESCRIPTION:Foredrag om "Urban living"
LAST-MODIFIED;VALUE=DATE-TIME:20190729T112312Z
URL:https://www.bergenokologiskelandsby.no/gamle-brukermapper/Lise/littera
 turhuset-i-kveld
END:VEVENT
BEGIN:VTIMEZONE
TZID:CET
X-LIC-LOCATION:CET
BEGIN:STANDARD
DTSTART;VALUE=DATE-TIME:20121028T020000
TZNAME:CET
TZOFFSETFROM:+0200
TZOFFSETTO:+0100
END:STANDARD
END:VTIMEZONE
END:VCALENDAR
