BEGIN:VCALENDAR
VERSION:2.0
PRODID:-//Plone.org//NONSGML plone.app.event//EN
X-WR-TIMEZONE:Europe/Oslo
BEGIN:VEVENT
SUMMARY:Husbygging for fremtiden
DTSTART;TZID=CET;VALUE=DATE-TIME:20101030T130000
DTEND;TZID=CET;VALUE=DATE-TIME:20101030T160000
DTSTAMP;VALUE=DATE-TIME:20260421T042250Z
UID:aa72ebf8efdb893348c3ed05ff9717f3@127.0.0.1:8099
CREATED;VALUE=DATE-TIME:20101018T101652Z
LAST-MODIFIED;VALUE=DATE-TIME:20190621T115346Z
LOCATION:Nordåsgrenda\, Nordås
URL:https://www.bergenokologiskelandsby.no/grupper/hus-og-energi/design-og
 -lokalsamfunn/husbygging-for-fremtiden
END:VEVENT
BEGIN:VTIMEZONE
TZID:CET
X-LIC-LOCATION:CET
BEGIN:DAYLIGHT
DTSTART;VALUE=DATE-TIME:20100328T030000
TZNAME:CEST
TZOFFSETFROM:+0100
TZOFFSETTO:+0200
END:DAYLIGHT
END:VTIMEZONE
END:VCALENDAR
